BEGIN:VCALENDAR
VERSION:2.0
PRODID:-//Kirk Smeaton Parish Council//Meeting Calendar//EN
CALSCALE:GREGORIAN
METHOD:PUBLISH
BEGIN:VEVENT
UID:71373-20240502@kirksmeatonparishcouncil.gov.uk
DTSTAMP:20260419T181632Z
DTSTART;VALUE=DATE:20240502
DTEND;VALUE=DATE:20240503
SUMMARY:Went Valley Aggregates Minutes of All Meetings 2024
DESCRIPTION:Went Valley Aggregates Liaison Committee Meeting\nView details: https://kirksmeatonparishcouncil.gov.uk/meetings/went-valley-aggregates-minutes-of-all-meetings-2024/
URL:https://kirksmeatonparishcouncil.gov.uk/meetings/went-valley-aggregates-minutes-of-all-meetings-2024/
END:VEVENT
END:VCALENDAR
