BEGIN:VCALENDAR
VERSION:2.0
PRODID:-//Kirk Smeaton Parish Council//Meeting Calendar//EN
CALSCALE:GREGORIAN
METHOD:PUBLISH
BEGIN:VEVENT
UID:71042-20240725@kirksmeatonparishcouncil.gov.uk
DTSTAMP:20260420T005418Z
DTSTART;VALUE=DATE:20240725
DTEND;VALUE=DATE:20240726
SUMMARY:Council Meeting 25 July 2024
DESCRIPTION:Full Council Meeting\nView details: https://kirksmeatonparishcouncil.gov.uk/meetings/council-meeting-25-july-2024/
URL:https://kirksmeatonparishcouncil.gov.uk/meetings/council-meeting-25-july-2024/
END:VEVENT
END:VCALENDAR
