BEGIN:VCALENDAR
VERSION:2.0
PRODID:-//Kirk Smeaton Parish Council//Meeting Calendar//EN
CALSCALE:GREGORIAN
METHOD:PUBLISH
BEGIN:VEVENT
UID:71038-20240523@kirksmeatonparishcouncil.gov.uk
DTSTAMP:20260419T181525Z
DTSTART;VALUE=DATE:20240523
DTEND;VALUE=DATE:20240524
SUMMARY:Annual Parish Meeting (for Villagers)
DESCRIPTION:Annual Meeting\nView details: https://kirksmeatonparishcouncil.gov.uk/meetings/annual-parish-meeting-for-villagers/
URL:https://kirksmeatonparishcouncil.gov.uk/meetings/annual-parish-meeting-for-villagers/
END:VEVENT
END:VCALENDAR
