BEGIN:VCALENDAR
VERSION:2.0
PRODID:-//Kirk Smeaton Parish Council//Meeting Calendar//EN
CALSCALE:GREGORIAN
METHOD:PUBLISH
BEGIN:VEVENT
UID:70902-20231205@kirksmeatonparishcouncil.gov.uk
DTSTAMP:20260419T181458Z
DTSTART;VALUE=DATE:20231205
DTEND;VALUE=DATE:20231206
SUMMARY:Went Valley Aggregates Liaison Committee 5th December 2023
DESCRIPTION:Went Valley Aggregates Liaison Committee Meeting\nView details: https://kirksmeatonparishcouncil.gov.uk/meetings/went-valley-aggregates-liaison-committee/
URL:https://kirksmeatonparishcouncil.gov.uk/meetings/went-valley-aggregates-liaison-committee/
END:VEVENT
END:VCALENDAR
