BEGIN:VCALENDAR
VERSION:2.0
PRODID:-//Kirk Smeaton Parish Council//Meeting Calendar//EN
CALSCALE:GREGORIAN
METHOD:PUBLISH
BEGIN:VEVENT
UID:70901-20231009@kirksmeatonparishcouncil.gov.uk
DTSTAMP:20260419T183834Z
DTSTART;VALUE=DATE:20231009
DTEND;VALUE=DATE:20231010
SUMMARY:Went Valley Aggregates Liaison Committee 9 October 2023
DESCRIPTION:Went Valley Aggregates Liaison Committee Meeting\nView details: https://kirksmeatonparishcouncil.gov.uk/meetings/went-valley-aggregates-liaison-committee-9-october-2023/
URL:https://kirksmeatonparishcouncil.gov.uk/meetings/went-valley-aggregates-liaison-committee-9-october-2023/
END:VEVENT
END:VCALENDAR
