BEGIN:VCALENDAR
VERSION:2.0
PRODID:-//Kirk Smeaton Parish Council//Meeting Calendar//EN
CALSCALE:GREGORIAN
METHOD:PUBLISH
BEGIN:VEVENT
UID:70900-20230817@kirksmeatonparishcouncil.gov.uk
DTSTAMP:20260419T181618Z
DTSTART;VALUE=DATE:20230817
DTEND;VALUE=DATE:20230818
SUMMARY:Went Valley Aggregates Liaison Committee 17th August 2023
DESCRIPTION:Went Valley Aggregates Liaison Committee Meeting\nView details: https://kirksmeatonparishcouncil.gov.uk/meetings/went-valley-aggregates-liaison-committee-17th-august-2023/
URL:https://kirksmeatonparishcouncil.gov.uk/meetings/went-valley-aggregates-liaison-committee-17th-august-2023/
END:VEVENT
END:VCALENDAR
