BEGIN:VCALENDAR
VERSION:2.0
PRODID:-//Kirk Smeaton Parish Council//Meeting Calendar//EN
CALSCALE:GREGORIAN
METHOD:PUBLISH
BEGIN:VEVENT
UID:70895-20230315@kirksmeatonparishcouncil.gov.uk
DTSTAMP:20260419T193932Z
DTSTART;VALUE=DATE:20230315
DTEND;VALUE=DATE:20230316
SUMMARY:Went Valley Aggregates Liaison Committee 15th March 2023
DESCRIPTION:Went Valley Aggregates Liaison Committee Meeting\nView details: https://kirksmeatonparishcouncil.gov.uk/meetings/went-valley-aggregates-liaison-committee-15th-march-2023/
URL:https://kirksmeatonparishcouncil.gov.uk/meetings/went-valley-aggregates-liaison-committee-15th-march-2023/
END:VEVENT
END:VCALENDAR
