BEGIN:VCALENDAR
VERSION:2.0
PRODID:-//Kirk Smeaton Parish Council//Meeting Calendar//EN
CALSCALE:GREGORIAN
METHOD:PUBLISH
BEGIN:VEVENT
UID:70645-20190110@kirksmeatonparishcouncil.gov.uk
DTSTAMP:20260419T194158Z
DTSTART;VALUE=DATE:20190110
DTEND;VALUE=DATE:20190111
SUMMARY:Council Meeting &#8211\\; 10th January 2019
DESCRIPTION:Full Council Meeting\nView details: https://kirksmeatonparishcouncil.gov.uk/meetings/council-meeting-10th-january-2019/
URL:https://kirksmeatonparishcouncil.gov.uk/meetings/council-meeting-10th-january-2019/
END:VEVENT
END:VCALENDAR
