BEGIN:VCALENDAR
VERSION:2.0
PRODID:-//Kirk Smeaton Parish Council//Meeting Calendar//EN
CALSCALE:GREGORIAN
METHOD:PUBLISH
BEGIN:VEVENT
UID:70643-20190218@kirksmeatonparishcouncil.gov.uk
DTSTAMP:20260419T193717Z
DTSTART;VALUE=DATE:20190218
DTEND;VALUE=DATE:20190219
SUMMARY:Went Valley Aggregates Liaison Committee Meeting &#8211\\; 18th February 2019
DESCRIPTION:Went Valley Aggregates Liaison Committee Meeting\nView details: https://kirksmeatonparishcouncil.gov.uk/meetings/went-valley-aggregates-liaison-committee-meeting-18th-february-2019/
URL:https://kirksmeatonparishcouncil.gov.uk/meetings/went-valley-aggregates-liaison-committee-meeting-18th-february-2019/
END:VEVENT
END:VCALENDAR
