BEGIN:VCALENDAR
VERSION:2.0
PRODID:-//Kirk Smeaton Parish Council//Meeting Calendar//EN
CALSCALE:GREGORIAN
METHOD:PUBLISH
BEGIN:VEVENT
UID:70503-20190507@kirksmeatonparishcouncil.gov.uk
DTSTAMP:20260419T181504Z
DTSTART;VALUE=DATE:20190507
DTEND;VALUE=DATE:20190508
SUMMARY:Council meeting &#8211\\; 7th May 2019
DESCRIPTION:Full Council Meeting\nView details: https://kirksmeatonparishcouncil.gov.uk/meetings/council-meeting-7th-may-2019/
URL:https://kirksmeatonparishcouncil.gov.uk/meetings/council-meeting-7th-may-2019/
END:VEVENT
END:VCALENDAR
