BEGIN:VCALENDAR
VERSION:2.0
PRODID:-//Kirk Smeaton Parish Council//Meeting Calendar//EN
CALSCALE:GREGORIAN
METHOD:PUBLISH
BEGIN:VEVENT
UID:70501-20190710@kirksmeatonparishcouncil.gov.uk
DTSTAMP:20260419T171618Z
DTSTART;VALUE=DATE:20190710
DTEND;VALUE=DATE:20190711
SUMMARY:Council meeting &#8211\\; 10th July 2019
DESCRIPTION:Full Council Meeting\nView details: https://kirksmeatonparishcouncil.gov.uk/meetings/council-meeting-10th-july-2019/
URL:https://kirksmeatonparishcouncil.gov.uk/meetings/council-meeting-10th-july-2019/
END:VEVENT
END:VCALENDAR
