BEGIN:VCALENDAR
VERSION:2.0
PRODID:-//Kirk Smeaton Parish Council//Meeting Calendar//EN
CALSCALE:GREGORIAN
METHOD:PUBLISH
BEGIN:VEVENT
UID:70499-20190911@kirksmeatonparishcouncil.gov.uk
DTSTAMP:20260419T155813Z
DTSTART;VALUE=DATE:20190911
DTEND;VALUE=DATE:20190912
SUMMARY:Council meeting &#8211\\; 11th September 2019
DESCRIPTION:Full Council Meeting\nView details: https://kirksmeatonparishcouncil.gov.uk/meetings/council-meeting-11th-september-2019/
URL:https://kirksmeatonparishcouncil.gov.uk/meetings/council-meeting-11th-september-2019/
END:VEVENT
END:VCALENDAR
