BEGIN:VCALENDAR
VERSION:2.0
PRODID:-//Kirk Smeaton Parish Council//Meeting Calendar//EN
CALSCALE:GREGORIAN
METHOD:PUBLISH
BEGIN:VEVENT
UID:70497-20191113@kirksmeatonparishcouncil.gov.uk
DTSTAMP:20260419T142642Z
DTSTART;VALUE=DATE:20191113
DTEND;VALUE=DATE:20191114
SUMMARY:Council meeting &#8211\\; 13th November 2019
DESCRIPTION:Full Council Meeting\nView details: https://kirksmeatonparishcouncil.gov.uk/meetings/council-meeting-13th-november-2019/
URL:https://kirksmeatonparishcouncil.gov.uk/meetings/council-meeting-13th-november-2019/
END:VEVENT
END:VCALENDAR
