BEGIN:VCALENDAR
VERSION:2.0
PRODID:-//Kirk Smeaton Parish Council//Meeting Calendar//EN
CALSCALE:GREGORIAN
METHOD:PUBLISH
BEGIN:VEVENT
UID:70495-20200129@kirksmeatonparishcouncil.gov.uk
DTSTAMP:20260419T130331Z
DTSTART;VALUE=DATE:20200129
DTEND;VALUE=DATE:20200130
SUMMARY:Council meeting &#8211\\; 29th January 2020
DESCRIPTION:Full Council Meeting\nView details: https://kirksmeatonparishcouncil.gov.uk/meetings/council-meeting-29th-january-2020/
URL:https://kirksmeatonparishcouncil.gov.uk/meetings/council-meeting-29th-january-2020/
END:VEVENT
END:VCALENDAR
