BEGIN:VCALENDAR
VERSION:2.0
PRODID:-//Kirk Smeaton Parish Council//Meeting Calendar//EN
CALSCALE:GREGORIAN
METHOD:PUBLISH
BEGIN:VEVENT
UID:70477-20201111@kirksmeatonparishcouncil.gov.uk
DTSTAMP:20260420T021606Z
DTSTART;VALUE=DATE:20201111
DTEND;VALUE=DATE:20201112
SUMMARY:Council meeting &#8211\\; 11th November 2020
DESCRIPTION:Full Council Meeting\nView details: https://kirksmeatonparishcouncil.gov.uk/meetings/council-meeting-11th-november-2020/
URL:https://kirksmeatonparishcouncil.gov.uk/meetings/council-meeting-11th-november-2020/
END:VEVENT
END:VCALENDAR
