BEGIN:VCALENDAR
VERSION:2.0
PRODID:-//Kirk Smeaton Parish Council//Meeting Calendar//EN
CALSCALE:GREGORIAN
METHOD:PUBLISH
BEGIN:VEVENT
UID:70474-20200617@kirksmeatonparishcouncil.gov.uk
DTSTAMP:20260420T124002Z
DTSTART;VALUE=DATE:20200617
DTEND;VALUE=DATE:20200618
SUMMARY:Council meeting &#8211\\; 17th June 2020
DESCRIPTION:Full Council Meeting\nView details: https://kirksmeatonparishcouncil.gov.uk/meetings/council-meeting-17th-june-2020/
URL:https://kirksmeatonparishcouncil.gov.uk/meetings/council-meeting-17th-june-2020/
END:VEVENT
END:VCALENDAR
