BEGIN:VCALENDAR
VERSION:2.0
PRODID:-//Kirk Smeaton Parish Council//Meeting Calendar//EN
CALSCALE:GREGORIAN
METHOD:PUBLISH
BEGIN:VEVENT
UID:70455-20210714@kirksmeatonparishcouncil.gov.uk
DTSTAMP:20260420T032900Z
DTSTART;VALUE=DATE:20210714
DTEND;VALUE=DATE:20210715
SUMMARY:Council meeting &#8211\\; 14 July 2021
DESCRIPTION:Full Council Meeting\nView details: https://kirksmeatonparishcouncil.gov.uk/meetings/council-meeting-14-july-2021/
URL:https://kirksmeatonparishcouncil.gov.uk/meetings/council-meeting-14-july-2021/
END:VEVENT
END:VCALENDAR
