BEGIN:VCALENDAR
VERSION:2.0
PRODID:-//Kirk Smeaton Parish Council//Meeting Calendar//EN
CALSCALE:GREGORIAN
METHOD:PUBLISH
BEGIN:VEVENT
UID:70449-20210505@kirksmeatonparishcouncil.gov.uk
DTSTAMP:20260419T194208Z
DTSTART;VALUE=DATE:20210505
DTEND;VALUE=DATE:20210506
SUMMARY:Annual Meeting &#8211\\; 5th May 2021
DESCRIPTION:Annual Meeting\nView details: https://kirksmeatonparishcouncil.gov.uk/meetings/council-meeting-5th-may-2021/
URL:https://kirksmeatonparishcouncil.gov.uk/meetings/council-meeting-5th-may-2021/
END:VEVENT
END:VCALENDAR
