BEGIN:VCALENDAR
VERSION:2.0
PRODID:-//Kirk Smeaton Parish Council//Meeting Calendar//EN
CALSCALE:GREGORIAN
METHOD:PUBLISH
BEGIN:VEVENT
UID:70423-20221117@kirksmeatonparishcouncil.gov.uk
DTSTAMP:20260420T053830Z
DTSTART;VALUE=DATE:20221117
DTEND;VALUE=DATE:20221118
SUMMARY:Council meeting &#8211\\; 17th November 2022
DESCRIPTION:Full Council Meeting\nView details: https://kirksmeatonparishcouncil.gov.uk/meetings/council-meeting-17th-november-2022/
URL:https://kirksmeatonparishcouncil.gov.uk/meetings/council-meeting-17th-november-2022/
END:VEVENT
END:VCALENDAR
