BEGIN:VCALENDAR
VERSION:2.0
PRODID:-//Kirk Smeaton Parish Council//Meeting Calendar//EN
CALSCALE:GREGORIAN
METHOD:PUBLISH
BEGIN:VEVENT
UID:70420-20220929@kirksmeatonparishcouncil.gov.uk
DTSTAMP:20260420T053926Z
DTSTART;VALUE=DATE:20220929
DTEND;VALUE=DATE:20220930
SUMMARY:Council meeting &#8211\\; 29th September 2022
DESCRIPTION:Full Council Meeting\nView details: https://kirksmeatonparishcouncil.gov.uk/meetings/council-meeting-29th-september-2022/
URL:https://kirksmeatonparishcouncil.gov.uk/meetings/council-meeting-29th-september-2022/
END:VEVENT
END:VCALENDAR
