BEGIN:VCALENDAR
VERSION:2.0
PRODID:-//Kirk Smeaton Parish Council//Meeting Calendar//EN
CALSCALE:GREGORIAN
METHOD:PUBLISH
BEGIN:VEVENT
UID:70417-20220721@kirksmeatonparishcouncil.gov.uk
DTSTAMP:20260420T053950Z
DTSTART;VALUE=DATE:20220721
DTEND;VALUE=DATE:20220722
SUMMARY:Council meeting &#8211\\; 21st July 2022
DESCRIPTION:Full Council Meeting\nView details: https://kirksmeatonparishcouncil.gov.uk/meetings/council-meeting-21st-july-2022/
URL:https://kirksmeatonparishcouncil.gov.uk/meetings/council-meeting-21st-july-2022/
END:VEVENT
END:VCALENDAR
